BEGIN:VCALENDAR
VERSION:2.0
PRODID:-//CO.STARTERS® - ECPv6.2.6//NONSGML v1.0//EN
CALSCALE:GREGORIAN
METHOD:PUBLISH
X-WR-CALNAME:CO.STARTERS®
X-ORIGINAL-URL:http://facilitators.costarters.co
X-WR-CALDESC:Events for CO.STARTERS®
REFRESH-INTERVAL;VALUE=DURATION:PT1H
X-Robots-Tag:noindex
X-PUBLISHED-TTL:PT1H
BEGIN:VTIMEZONE
TZID:America/New_York
BEGIN:DAYLIGHT
TZOFFSETFROM:-0500
TZOFFSETTO:-0400
TZNAME:EDT
DTSTART:20170312T070000
END:DAYLIGHT
BEGIN:STANDARD
TZOFFSETFROM:-0400
TZOFFSETTO:-0500
TZNAME:EST
DTSTART:20171105T060000
END:STANDARD
END:VTIMEZONE
BEGIN:VEVENT
DTSTART;TZID=America/New_York:20170706T170000
DTEND;TZID=America/New_York:20170706T190000
DTSTAMP:20260425T200626
CREATED:20170629T192158Z
LAST-MODIFIED:20170630T141602Z
UID:12023-1499360400-1499367600@facilitators.costarters.co
SUMMARY:New CO.STARTERS Alumni Support Program: Free Masterclass Preview
DESCRIPTION:This special preview of our newest partner’s program is an insightful and interactive conversation at the crossroads of entrepreneurship and cutting-edge leadership psychology. This free masterclass provides a preview of Good Startups’ Breakthrough Program\, a new 12-week program that your organization can offer to CO.STARTERS graduates. CO.STARTERS is paying all the costs up front so that the first100 starters who sign up can access it for free! Time is running out to share this opportunity with your starters. Sign up here for the masterclass preview.
URL:http://facilitators.costarters.co/opportunity/new-co-starters-alumni-support-program-free-masterclass-preview/
ATTACH;FMTTYPE=image/jpeg:http://facilitators.costarters.co/wp-content/uploads/2017/04/GoodStartups1.jpg
END:VEVENT
END:VCALENDAR