BEGIN:VCALENDAR
VERSION:2.0
PRODID:-//CO.STARTERS® - ECPv6.2.6//NONSGML v1.0//EN
CALSCALE:GREGORIAN
METHOD:PUBLISH
X-WR-CALNAME:CO.STARTERS®
X-ORIGINAL-URL:http://facilitators.costarters.co
X-WR-CALDESC:Events for CO.STARTERS®
REFRESH-INTERVAL;VALUE=DURATION:PT1H
X-Robots-Tag:noindex
X-PUBLISHED-TTL:PT1H
BEGIN:VTIMEZONE
TZID:America/New_York
BEGIN:DAYLIGHT
TZOFFSETFROM:-0500
TZOFFSETTO:-0400
TZNAME:EDT
DTSTART:20170312T070000
END:DAYLIGHT
BEGIN:STANDARD
TZOFFSETFROM:-0400
TZOFFSETTO:-0500
TZNAME:EST
DTSTART:20171105T060000
END:STANDARD
END:VTIMEZONE
BEGIN:VEVENT
DTSTART;TZID=America/New_York:20170718T170000
DTEND;TZID=America/New_York:20170718T190000
DTSTAMP:20260425T200626
CREATED:20170428T000657Z
LAST-MODIFIED:20170630T142416Z
UID:11907-1500397200-1500404400@facilitators.costarters.co
SUMMARY:CO.STARTERS Sponsored Breakthrough Program with Good Startups
DESCRIPTION:CO.STARTERS is sponsoring up to 100 participants who join in the first Breakthrough Cohort being offered in July. The 12-week Breakthrough Program provides the most important business development and mindset transformation tools required to create a thriving and sustainable venture. Offered in partnership with Good Startups\, this program is now available for free to the first 100 CO.STARTERS graduates who sign up for the class through this link and use the promo code COSTARTERSGEN1 (A $450 value!). \nOur only request is that whoever signs up will commit to showing up on time each week\, ready to learn and participate. Our goal is to create a powerful case study that will inspire creative starters around the world to receive this type of entrepreneurial development coaching.
URL:http://facilitators.costarters.co/opportunity/small-medium-enterprises-breakthrough-program/
ATTACH;FMTTYPE=image/jpeg:http://facilitators.costarters.co/wp-content/uploads/2017/04/GoodStartups2.jpg
END:VEVENT
END:VCALENDAR