BEGIN:VCALENDAR
VERSION:2.0
PRODID:-//CO.STARTERS® - ECPv6.2.6//NONSGML v1.0//EN
CALSCALE:GREGORIAN
METHOD:PUBLISH
X-WR-CALNAME:CO.STARTERS®
X-ORIGINAL-URL:http://facilitators.costarters.co
X-WR-CALDESC:Events for CO.STARTERS®
REFRESH-INTERVAL;VALUE=DURATION:PT1H
X-Robots-Tag:noindex
X-PUBLISHED-TTL:PT1H
BEGIN:VTIMEZONE
TZID:America/New_York
BEGIN:DAYLIGHT
TZOFFSETFROM:-0500
TZOFFSETTO:-0400
TZNAME:EDT
DTSTART:20170312T070000
END:DAYLIGHT
BEGIN:STANDARD
TZOFFSETFROM:-0400
TZOFFSETTO:-0500
TZNAME:EST
DTSTART:20171105T060000
END:STANDARD
END:VTIMEZONE
BEGIN:VEVENT
DTSTART;VALUE=DATE:20170914
DTEND;VALUE=DATE:20170916
DTSTAMP:20260425T145600
CREATED:20170822T194655Z
LAST-MODIFIED:20170926T020649Z
UID:12272-1505347200-1505519999@facilitators.costarters.co
SUMMARY:Unpolished Conference
DESCRIPTION:The 2017 Unpolished Conference presented by Fifth Third will be held on September 14-15\, 2017 in Cincinnati\, Ohio. \nUnpolished is a three-tier program designed to support entrepreneurs and small business owners by providing training\, community and insight on integrating faith and business.  The annual conference is the capstone event and hosts participants from across the nation.  The other tiers include local networking and Cincinnati based extended training. \nThe first day of the conference features six entrepreneurs who grew a business because of their faith or launched a business in response to a faith crisis. Anne Beiler founded Aunt Annie’s Pretzels; Mary Miller founded Jancoa Janitorial Service; Mark Whitacre’s story was featured in the movie The Informant; David Roth founded workmatters; Clifton Taulbert is a bestselling author and Brian Tome co-founded Crossroads Community Church. Our conference emcee will once again be Allen Woods from Mortar. View the full speaker details here. \nThe second day of the conference features four 75 minute workshops. Integrating your faith into your business; building into employees as your foundation for success; telling your story as your primary marketing plan; and\, funding your business. Each workshop is led by a renowned expert: Brandon Schaefer (Five Capitals); Joe Boyd (Rebel Pilgrim); Mary Miller (Jancoa Janitorial Service) and Fifth Third Bank. \nAttendees can participate in one day or both days. \nREGISTER HERE
URL:http://facilitators.costarters.co/opportunity/unpolished-conference/
LOCATION:Crossroads Church\, 3500 Madison Road\, Cincinnati\, OH\, 45209
ATTACH;FMTTYPE=image/jpeg:http://facilitators.costarters.co/wp-content/uploads/2017/08/Unpolished.jpg
END:VEVENT
BEGIN:VEVENT
DTSTART;TZID=America/New_York:20170914T160000
DTEND;TZID=America/New_York:20170914T170000
DTSTAMP:20260425T145600
CREATED:20170825T162107Z
LAST-MODIFIED:20180927T141459Z
UID:12297-1505404800-1505408400@facilitators.costarters.co
SUMMARY:CO.STARTERS September Community Call
DESCRIPTION:Growing Inclusive Communities\nWhile entrepreneurship is generally on the rise\,there are significant barriers for many people. Last year the Kauffman Foundation put out a call for proposals to increase inclusion for women and minorities. Out of over 375 applicants\, twelve were awarded grants.  Out of that twelve\, three were members of our CO.STARTERS community. Join representatives from The Commons on Champa\, LAUNCH Chattanooga\, and The Company Lab as we discuss the importance of inclusion and efforts to close the gap for the underserved. Click here to join the call.
URL:http://facilitators.costarters.co/opportunity/co-starters-september-community-call/
ATTACH;FMTTYPE=image/jpeg:http://facilitators.costarters.co/wp-content/uploads/2017/08/ChattanoogaSOUP-0028-e1503678018834.jpg
END:VEVENT
END:VCALENDAR