BEGIN:VCALENDAR
VERSION:2.0
PRODID:-//CO.STARTERS® - ECPv6.2.6//NONSGML v1.0//EN
CALSCALE:GREGORIAN
METHOD:PUBLISH
X-ORIGINAL-URL:http://facilitators.costarters.co
X-WR-CALDESC:Events for CO.STARTERS®
REFRESH-INTERVAL;VALUE=DURATION:PT1H
X-Robots-Tag:noindex
X-PUBLISHED-TTL:PT1H
BEGIN:VTIMEZONE
TZID:America/New_York
BEGIN:DAYLIGHT
TZOFFSETFROM:-0500
TZOFFSETTO:-0400
TZNAME:EDT
DTSTART:20180311T070000
END:DAYLIGHT
BEGIN:STANDARD
TZOFFSETFROM:-0400
TZOFFSETTO:-0500
TZNAME:EST
DTSTART:20181104T060000
END:STANDARD
END:VTIMEZONE
BEGIN:VEVENT
DTSTART;TZID=America/New_York:20180118T160000
DTEND;TZID=America/New_York:20180118T170000
DTSTAMP:20260424T063500
CREATED:20171212T203402Z
LAST-MODIFIED:20171212T203402Z
UID:13405-1516291200-1516294800@facilitators.costarters.co
SUMMARY:CO.STARTERS January Community Call
DESCRIPTION:As we enter the new year\, we want to take a moment to look back on 2017 and celebrate your successes across the CO.STARTERS community. To this end\, our January Community Call will highlight stories of encouragement from you – our members – in as many five minute segments as we can fit. If you have a celebratory story to share\, please let Molly know so we can include you on the schedule.  \nIf you are not a member of the CO.STARTERS community and would like to know how you can participate in this or future calls\, please contact us here.
URL:http://facilitators.costarters.co/opportunity/costarters-january2018-call/
ATTACH;FMTTYPE=image/jpeg:http://facilitators.costarters.co/wp-content/uploads/2017/12/Celebrating2017.jpg
END:VEVENT
END:VCALENDAR