BEGIN:VCALENDAR
VERSION:2.0
PRODID:-//CO.STARTERS® - ECPv6.2.6//NONSGML v1.0//EN
CALSCALE:GREGORIAN
METHOD:PUBLISH
X-ORIGINAL-URL:http://facilitators.costarters.co
X-WR-CALDESC:Events for CO.STARTERS®
REFRESH-INTERVAL;VALUE=DURATION:PT1H
X-Robots-Tag:noindex
X-PUBLISHED-TTL:PT1H
BEGIN:VTIMEZONE
TZID:America/New_York
BEGIN:DAYLIGHT
TZOFFSETFROM:-0500
TZOFFSETTO:-0400
TZNAME:EDT
DTSTART:20180311T070000
END:DAYLIGHT
BEGIN:STANDARD
TZOFFSETFROM:-0400
TZOFFSETTO:-0500
TZNAME:EST
DTSTART:20181104T060000
END:STANDARD
END:VTIMEZONE
BEGIN:VEVENT
DTSTART;VALUE=DATE:20180411
DTEND;VALUE=DATE:20180415
DTSTAMP:20260423T155432
CREATED:20171031T145154Z
LAST-MODIFIED:20171031T145611Z
UID:13018-1523404800-1523750399@facilitators.costarters.co
SUMMARY:Hometown Summit
DESCRIPTION:The Hometown Summit is a forum to advance resilience and thriving in America’s small cities. Launched in 2017 with over 450 changemakers from 76 US cities\, the Summit returns this April for three days of insights and fellowship across geographies and sectors. Addressing national challenges with local solutions\, the theme of 2018’s Summit is “Own It.”
URL:http://facilitators.costarters.co/opportunity/hometown-summit-2/
LOCATION:Charlottesville\, VA
ATTACH;FMTTYPE=image/jpeg:http://facilitators.costarters.co/wp-content/uploads/2017/10/Hometown-Summit2.jpg
END:VEVENT
END:VCALENDAR