BEGIN:VCALENDAR
VERSION:2.0
PRODID:-//CO.STARTERS® - ECPv6.2.6//NONSGML v1.0//EN
CALSCALE:GREGORIAN
METHOD:PUBLISH
X-ORIGINAL-URL:http://facilitators.costarters.co
X-WR-CALDESC:Events for CO.STARTERS®
REFRESH-INTERVAL;VALUE=DURATION:PT1H
X-Robots-Tag:noindex
X-PUBLISHED-TTL:PT1H
BEGIN:VTIMEZONE
TZID:America/New_York
BEGIN:DAYLIGHT
TZOFFSETFROM:-0500
TZOFFSETTO:-0400
TZNAME:EDT
DTSTART:20180311T070000
END:DAYLIGHT
BEGIN:STANDARD
TZOFFSETFROM:-0400
TZOFFSETTO:-0500
TZNAME:EST
DTSTART:20181104T060000
END:STANDARD
END:VTIMEZONE
BEGIN:VEVENT
DTSTART;VALUE=DATE:20180422
DTEND;VALUE=DATE:20180426
DTSTAMP:20260423T155432
CREATED:20171030T212622Z
LAST-MODIFIED:20180927T141411Z
UID:13011-1524355200-1524700799@facilitators.costarters.co
SUMMARY:InBIA International Conference on Business Incubation
DESCRIPTION:This year\, InBIA’s 32nd International Conference on Business Incubation will be held in Dallas\, Texas\, and they are inviting everyone who works with an entrepreneurial support organization (ESO) to join them at this year’s conference. The agenda will feature more than 30 educational sessions (including one on ecosystem building by our very own Enoch Elwell)\, powerful keynote speakers\, and several unique opportunities to meet\, connect and collaborate with peers from around the globe. Come hang out with us at this event!
URL:http://facilitators.costarters.co/opportunity/inbia-international-conference-on-business-incubation/
CATEGORIES:Ecosystem Builders
ATTACH;FMTTYPE=image/jpeg:http://facilitators.costarters.co/wp-content/uploads/2017/10/InBIAIntlConferenceDallas.jpg
END:VEVENT
END:VCALENDAR