BEGIN:VCALENDAR
VERSION:2.0
PRODID:-//CO.STARTERS® - ECPv6.2.6//NONSGML v1.0//EN
CALSCALE:GREGORIAN
METHOD:PUBLISH
X-ORIGINAL-URL:http://facilitators.costarters.co
X-WR-CALDESC:Events for CO.STARTERS®
REFRESH-INTERVAL;VALUE=DURATION:PT1H
X-Robots-Tag:noindex
X-PUBLISHED-TTL:PT1H
BEGIN:VTIMEZONE
TZID:America/New_York
BEGIN:DAYLIGHT
TZOFFSETFROM:-0500
TZOFFSETTO:-0400
TZNAME:EDT
DTSTART:20180311T070000
END:DAYLIGHT
BEGIN:STANDARD
TZOFFSETFROM:-0400
TZOFFSETTO:-0500
TZNAME:EST
DTSTART:20181104T060000
END:STANDARD
END:VTIMEZONE
BEGIN:VEVENT
DTSTART;VALUE=DATE:20180829
DTEND;VALUE=DATE:20180831
DTSTAMP:20260423T041605
CREATED:20180615T203736Z
LAST-MODIFIED:20180927T141600Z
UID:14435-1535500800-1535673599@facilitators.costarters.co
SUMMARY:36|86 Entrepreneurship Festival
DESCRIPTION:Against the exciting backdrop of downtown Nashville\, Tennessee\, thought leaders nationwide convene for this two-day\, high-impact event that offers the knowledge\, connections and capital that are crucial to maintaining a competitive position in today’s globalized marketplace. Learn more and register for the Southeast’s premier gathering of founders\, investors and ecosystem builders here.
URL:http://facilitators.costarters.co/opportunity/3686-entrepreneurship-festival/
LOCATION:Nashville\, TN
CATEGORIES:Ecosystem Builders
ATTACH;FMTTYPE=image/jpeg:http://facilitators.costarters.co/wp-content/uploads/2018/06/3686_logo.jpg
END:VEVENT
END:VCALENDAR