BEGIN:VCALENDAR
VERSION:2.0
PRODID:-//CO.STARTERS® - ECPv6.2.6//NONSGML v1.0//EN
CALSCALE:GREGORIAN
METHOD:PUBLISH
X-WR-CALNAME:CO.STARTERS®
X-ORIGINAL-URL:http://facilitators.costarters.co
X-WR-CALDESC:Events for CO.STARTERS®
REFRESH-INTERVAL;VALUE=DURATION:PT1H
X-Robots-Tag:noindex
X-PUBLISHED-TTL:PT1H
BEGIN:VTIMEZONE
TZID:America/New_York
BEGIN:DAYLIGHT
TZOFFSETFROM:-0500
TZOFFSETTO:-0400
TZNAME:EDT
DTSTART:20180311T070000
END:DAYLIGHT
BEGIN:STANDARD
TZOFFSETFROM:-0400
TZOFFSETTO:-0500
TZNAME:EST
DTSTART:20181104T060000
END:STANDARD
END:VTIMEZONE
BEGIN:VEVENT
DTSTART;VALUE=DATE:20180917
DTEND;VALUE=DATE:20180919
DTSTAMP:20260423T054106
CREATED:20180619T190023Z
LAST-MODIFIED:20180927T141606Z
UID:14444-1537142400-1537315199@facilitators.costarters.co
SUMMARY:e.Builders Forum
DESCRIPTION:This fall\, CO.STARTERS will be partnering with InBIA on the second Ecosystem Builders (e.Builders) Forum. This two-day event in Detroit will combine InBIA’s seasoned practitioners\, local industry leaders\, and some CO.STARTERS flair as we share tools\, resources\, and success stories that highlight work being done in underserved communities. We’ll provide special ways for our CO.STARTERS community to connect with one another at the event\, so be sure to join us! Learn more here.
URL:http://facilitators.costarters.co/opportunity/ebuilders-forum-2018/
LOCATION:Detroit\, MI
CATEGORIES:Ecosystem Builders
ATTACH;FMTTYPE=image/jpeg:http://facilitators.costarters.co/wp-content/uploads/2018/06/eBuilders2018.jpg
END:VEVENT
END:VCALENDAR