BEGIN:VCALENDAR
VERSION:2.0
PRODID:-//CO.STARTERS® - ECPv6.2.6//NONSGML v1.0//EN
CALSCALE:GREGORIAN
METHOD:PUBLISH
X-WR-CALNAME:CO.STARTERS®
X-ORIGINAL-URL:http://facilitators.costarters.co
X-WR-CALDESC:Events for CO.STARTERS®
REFRESH-INTERVAL;VALUE=DURATION:PT1H
X-Robots-Tag:noindex
X-PUBLISHED-TTL:PT1H
BEGIN:VTIMEZONE
TZID:America/New_York
BEGIN:DAYLIGHT
TZOFFSETFROM:-0500
TZOFFSETTO:-0400
TZNAME:EDT
DTSTART:20180311T070000
END:DAYLIGHT
BEGIN:STANDARD
TZOFFSETFROM:-0400
TZOFFSETTO:-0500
TZNAME:EST
DTSTART:20181104T060000
END:STANDARD
END:VTIMEZONE
BEGIN:VEVENT
DTSTART;VALUE=DATE:20181023
DTEND;VALUE=DATE:20181027
DTSTAMP:20260423T022813
CREATED:20181010T210920Z
LAST-MODIFIED:20181026T201048Z
UID:15307-1540252800-1540598399@facilitators.costarters.co
SUMMARY:SOCAP
DESCRIPTION:http://socialcapitalmarkets.net/ \nDedicated to Accelerating a New Global Market at the Intersection of Money + Meaning.
URL:http://facilitators.costarters.co/opportunity/socap/
LOCATION:San Francisco
CATEGORIES:Ecosystem Builders
ATTACH;FMTTYPE=image/png:http://facilitators.costarters.co/wp-content/uploads/2018/10/socap-03-1.png
END:VEVENT
END:VCALENDAR