BEGIN:VCALENDAR
VERSION:2.0
PRODID:-//CO.STARTERS® - ECPv6.2.6//NONSGML v1.0//EN
CALSCALE:GREGORIAN
METHOD:PUBLISH
X-WR-CALNAME:CO.STARTERS®
X-ORIGINAL-URL:http://facilitators.costarters.co
X-WR-CALDESC:Events for CO.STARTERS®
REFRESH-INTERVAL;VALUE=DURATION:PT1H
X-Robots-Tag:noindex
X-PUBLISHED-TTL:PT1H
BEGIN:VTIMEZONE
TZID:America/New_York
BEGIN:DAYLIGHT
TZOFFSETFROM:-0500
TZOFFSETTO:-0400
TZNAME:EDT
DTSTART:20180311T070000
END:DAYLIGHT
BEGIN:STANDARD
TZOFFSETFROM:-0400
TZOFFSETTO:-0500
TZNAME:EST
DTSTART:20181104T060000
END:STANDARD
END:VTIMEZONE
BEGIN:VEVENT
DTSTART;VALUE=DATE:20181203
DTEND;VALUE=DATE:20181206
DTSTAMP:20260422T205055
CREATED:20181104T150757Z
LAST-MODIFIED:20181112T210843Z
UID:16825-1543795200-1544054399@facilitators.costarters.co
SUMMARY:SSTI: Navigating the New Innovation Landscape
DESCRIPTION:SSTI’s 2018 Annual Conference is December 3-5\, 2018\, in the growing innovation arena of Salt Lake City\, Utah. Along with our host partner — the Utah Science Technology and Research Initiative (USTAR) — SSTI is looking forward to showcasing the elements that have earned the region the reputation as a burgeoning technology hub. \nJoin us to focus on Navigating the New Innovation Landscape as we learn how the region’s success was achieved and USTAR’s role in helping build the state’s innovation economy. Discover the elements that are driving the growth while you reconnect and network with other leaders in the field. And learn more about the role of R&D\, capital\, workforce\, and public/private partnerships in building a successful technology-based economy from the panels of experts and thought leaders that will gather at the conference. \nGo here to learn more and register.
URL:http://facilitators.costarters.co/opportunity/ssti-navigating-the-new-innovation-landscape/
CATEGORIES:Ecosystem Builders
ATTACH;FMTTYPE=image/png:http://facilitators.costarters.co/wp-content/uploads/2018/11/web-graphic-ssti-02-1.png
END:VEVENT
END:VCALENDAR