BEGIN:VCALENDAR
VERSION:2.0
PRODID:-//CO.STARTERS® - ECPv6.2.6//NONSGML v1.0//EN
CALSCALE:GREGORIAN
METHOD:PUBLISH
X-ORIGINAL-URL:http://facilitators.costarters.co
X-WR-CALDESC:Events for CO.STARTERS®
REFRESH-INTERVAL;VALUE=DURATION:PT1H
X-Robots-Tag:noindex
X-PUBLISHED-TTL:PT1H
BEGIN:VTIMEZONE
TZID:America/New_York
BEGIN:DAYLIGHT
TZOFFSETFROM:-0500
TZOFFSETTO:-0400
TZNAME:EDT
DTSTART:20190310T070000
END:DAYLIGHT
BEGIN:STANDARD
TZOFFSETFROM:-0400
TZOFFSETTO:-0500
TZNAME:EST
DTSTART:20191103T060000
END:STANDARD
END:VTIMEZONE
BEGIN:VEVENT
DTSTART;VALUE=DATE:20190216
DTEND;VALUE=DATE:20190224
DTSTAMP:20260422T171749
CREATED:20181104T150807Z
LAST-MODIFIED:20190218T160313Z
UID:15651-1550275200-1550966399@facilitators.costarters.co
SUMMARY:National Entrepreneurship Week
DESCRIPTION:What is National Entrepreneurship Week?  \nFounded in 2006\, National Entrepreneurship Week (“NEW”) is a congressionally-chartered week dedicated to showcasing entrepreneurship “eship” throughout the United States. From rural towns to urban cities and large corporations to micro businesses–entrepreneurship and innovation starts with just an idea and an entrepreneur. \nWhen is National Entrepreneurship Week 2019?  \nNEW 2019 takes place on February 16-23\, 2019. \nTo help engage a range of communities across the U.S.\, NEW 2019 will be highlighting a daily theme on February 18-22. This year’s themes focus on: \n\nMonday\, Feb 18 Entrepreneurship Education\nTuesday\, Feb 19 Libraries & Incubators\nWednesday\, Feb 20 Entrepreneurship for All\nThursday\, Feb 21 Rural Towns & Urban Cities\nFriday\, Feb 22 Federal Support for Entrepreneurship\n\n 
URL:http://facilitators.costarters.co/opportunity/national-entrepreneurship-week/
CATEGORIES:Ecosystem Builders
ATTACH;FMTTYPE=image/png:http://facilitators.costarters.co/wp-content/uploads/2018/11/national-entrepreneurship-week-01-1.png
END:VEVENT
END:VCALENDAR