BEGIN:VCALENDAR
VERSION:2.0
PRODID:-//CO.STARTERS® - ECPv6.2.6//NONSGML v1.0//EN
CALSCALE:GREGORIAN
METHOD:PUBLISH
X-ORIGINAL-URL:http://facilitators.costarters.co
X-WR-CALDESC:Events for CO.STARTERS®
REFRESH-INTERVAL;VALUE=DURATION:PT1H
X-Robots-Tag:noindex
X-PUBLISHED-TTL:PT1H
BEGIN:VTIMEZONE
TZID:America/New_York
BEGIN:DAYLIGHT
TZOFFSETFROM:-0500
TZOFFSETTO:-0400
TZNAME:EDT
DTSTART:20190310T070000
END:DAYLIGHT
BEGIN:STANDARD
TZOFFSETFROM:-0400
TZOFFSETTO:-0500
TZNAME:EST
DTSTART:20191103T060000
END:STANDARD
END:VTIMEZONE
BEGIN:VEVENT
DTSTART;VALUE=DATE:20190319
DTEND;VALUE=DATE:20190322
DTSTAMP:20260422T153307
CREATED:20181104T150808Z
LAST-MODIFIED:20190627T215756Z
UID:16108-1552953600-1553212799@facilitators.costarters.co
SUMMARY:SCN Spring Summit
DESCRIPTION:Twice annually\, Startup Champion Network members meet in-person to connect\, share knowledge/experiences and take a deep\, behind-the-scenes dive into the local host ecosystem.  This personal interaction is a critical part of the member value-proposition as well as an important commitment all members make — to celebrate each other. \nThese 2.5 day intimate gatherings bring together the nation’s top ecosystem builders and national ecosystem support organizations to convene conversations\, gain insight from real world case studies\, and explore and experience new communities\, against the backdrops of some of the nation’s top emerging ecosystems. \nWe’re looking forward to spending time again with our growing network of Entrepreneurial Ecosystem Building professionals this Spring in Portland\, Oregon. Sign up for our summit here.
URL:http://facilitators.costarters.co/opportunity/scn-spring-summit/
LOCATION:Portland\, OR\, USA\, United States
CATEGORIES:Ecosystem Builders
ATTACH;FMTTYPE=image/png:http://facilitators.costarters.co/wp-content/uploads/2018/11/scn-08.png
END:VEVENT
END:VCALENDAR