BEGIN:VCALENDAR
VERSION:2.0
PRODID:-//CO.STARTERS® - ECPv6.2.6//NONSGML v1.0//EN
CALSCALE:GREGORIAN
METHOD:PUBLISH
X-WR-CALNAME:CO.STARTERS®
X-ORIGINAL-URL:http://facilitators.costarters.co
X-WR-CALDESC:Events for CO.STARTERS®
REFRESH-INTERVAL;VALUE=DURATION:PT1H
X-Robots-Tag:noindex
X-PUBLISHED-TTL:PT1H
BEGIN:VTIMEZONE
TZID:America/New_York
BEGIN:DAYLIGHT
TZOFFSETFROM:-0500
TZOFFSETTO:-0400
TZNAME:EDT
DTSTART:20190310T070000
END:DAYLIGHT
BEGIN:STANDARD
TZOFFSETFROM:-0400
TZOFFSETTO:-0500
TZNAME:EST
DTSTART:20191103T060000
END:STANDARD
END:VTIMEZONE
BEGIN:VEVENT
DTSTART;VALUE=DATE:20190516
DTEND;VALUE=DATE:20190518
DTSTAMP:20260422T115247
CREATED:20190304T150814Z
LAST-MODIFIED:20190515T132157Z
UID:18814-1557964800-1558137599@facilitators.costarters.co
SUMMARY:EntreFEST
DESCRIPTION:EntreFEST is a two-day conference\, celebrating the spirit of entrepreneurship and innovation where professionals at every level can come together\, share ideas\, and own their success.
URL:http://facilitators.costarters.co/opportunity/entrefest/
LOCATION:Cedar Rapids\, Iowa
CATEGORIES:Ecosystem Builders
ATTACH;FMTTYPE=image/png:http://facilitators.costarters.co/wp-content/uploads/2019/03/EntreFest-08.png
END:VEVENT
END:VCALENDAR