BEGIN:VCALENDAR
VERSION:2.0
PRODID:-//CO.STARTERS® - ECPv6.2.6//NONSGML v1.0//EN
CALSCALE:GREGORIAN
METHOD:PUBLISH
X-ORIGINAL-URL:http://facilitators.costarters.co
X-WR-CALDESC:Events for CO.STARTERS®
REFRESH-INTERVAL;VALUE=DURATION:PT1H
X-Robots-Tag:noindex
X-PUBLISHED-TTL:PT1H
BEGIN:VTIMEZONE
TZID:America/New_York
BEGIN:DAYLIGHT
TZOFFSETFROM:-0500
TZOFFSETTO:-0400
TZNAME:EDT
DTSTART:20190310T070000
END:DAYLIGHT
BEGIN:STANDARD
TZOFFSETFROM:-0400
TZOFFSETTO:-0500
TZNAME:EST
DTSTART:20191103T060000
END:STANDARD
END:VTIMEZONE
BEGIN:VEVENT
DTSTART;VALUE=DATE:20190520
DTEND;VALUE=DATE:20190524
DTSTAMP:20260422T101941
CREATED:20190408T195118Z
LAST-MODIFIED:20190521T152216Z
UID:19466-1558310400-1558655999@facilitators.costarters.co
SUMMARY:Collision
DESCRIPTION:Collision is the fastest-growing tech conference in North America. Now in its fifth year\, Collision has grown to over 25\,000 attendees. Following the lead of our European event Web Summit\, Collision has become a crossroads for the world’s largest buyers and sellers of technology\, alongside many of the world’s most disruptive emerging technology companies. \nInc. has said we run “North America’s fastest-growing tech conference”;\nThe Wall Street Journal that “the giants of the web assemble” at Collision;\nUSA Today that Collision is “the anti-CES”. \nWe’ll see you there.
URL:http://facilitators.costarters.co/opportunity/collision/
CATEGORIES:Ecosystem Builders
ATTACH;FMTTYPE=image/png:http://facilitators.costarters.co/wp-content/uploads/2019/04/Colission-01.png
END:VEVENT
END:VCALENDAR