BEGIN:VCALENDAR
VERSION:2.0
PRODID:-//CO.STARTERS® - ECPv6.2.6//NONSGML v1.0//EN
CALSCALE:GREGORIAN
METHOD:PUBLISH
X-WR-CALNAME:CO.STARTERS®
X-ORIGINAL-URL:http://facilitators.costarters.co
X-WR-CALDESC:Events for CO.STARTERS®
REFRESH-INTERVAL;VALUE=DURATION:PT1H
X-Robots-Tag:noindex
X-PUBLISHED-TTL:PT1H
BEGIN:VTIMEZONE
TZID:America/New_York
BEGIN:DAYLIGHT
TZOFFSETFROM:-0500
TZOFFSETTO:-0400
TZNAME:EDT
DTSTART:20200308T070000
END:DAYLIGHT
BEGIN:STANDARD
TZOFFSETFROM:-0400
TZOFFSETTO:-0500
TZNAME:EST
DTSTART:20201101T060000
END:STANDARD
END:VTIMEZONE
BEGIN:VEVENT
DTSTART;TZID=America/New_York:20201005T173000
DTEND;TZID=America/New_York:20201005T173000
DTSTAMP:20260419T202610
CREATED:20200916T162632Z
LAST-MODIFIED:20200928T202452Z
UID:31600-1601919000-1601919000@facilitators.costarters.co
SUMMARY:Rebuild Program | Knoxville Entrepreneur Center
DESCRIPTION:As small businesses navigate the COVID-19 crisis\, the CO.STARTERS Rebuild program provides entrepreneurs with a practical pathway and trusted tools to approach the market in new way\, one step at a time. \nPresented by Knoxville Entrepreneur Center for business owners in Knoxville\, TN. \nApply through KEC
URL:http://facilitators.costarters.co/opportunity/rebuild-program-knoxville-entrepreneur-center/
LOCATION:Virtual
CATEGORIES:Entrepreneurs,Local/Regional,Rebuild,Recovery
ATTACH;FMTTYPE=image/png:http://facilitators.costarters.co/wp-content/uploads/2020/09/Calendar-Graphics_KEC.png
END:VEVENT
BEGIN:VEVENT
DTSTART;TZID=America/New_York:20201005T183000
DTEND;TZID=America/New_York:20201005T183000
DTSTAMP:20260419T202610
CREATED:20200929T191731Z
LAST-MODIFIED:20200929T191731Z
UID:31755-1601922600-1601922600@facilitators.costarters.co
SUMMARY:Rebuild Program | SODA Inc.
DESCRIPTION:As small businesses navigate the COVID-19 crisis\, the CO.STARTERS Rebuild program provides entrepreneurs with a practical pathway and trusted tools to approach the market in new way\, one step at a time. \nPresented by SODA Inc. for business owners in Hamilton\, New Zealand. \nApply through SODA Inc.
URL:http://facilitators.costarters.co/opportunity/rebuild-program-soda-inc/
LOCATION:Virtual
CATEGORIES:Entrepreneurs,Local/Regional,Rebuild,Recovery
ATTACH;FMTTYPE=image/png:http://facilitators.costarters.co/wp-content/uploads/2020/09/Calendar-Graphics_SODA-inc.png
END:VEVENT
BEGIN:VEVENT
DTSTART;TZID=America/New_York:20201008T193000
DTEND;TZID=America/New_York:20201008T193000
DTSTAMP:20260419T202610
CREATED:20200519T202018Z
LAST-MODIFIED:20200923T200415Z
UID:29330-1602185400-1602185400@facilitators.costarters.co
SUMMARY:Rebuild Program | Summit Biz
DESCRIPTION:As small businesses navigate the COVID-19 crisis\, the CO.STARTERS Rebuild program provides entrepreneurs with a practical pathway and trusted tools to approach the market in new way\, one step at a time. \nPresented by Summit Prosperity Initiative and Summit Chamber of Commerce for business owners in Summit County\, CO. \nApply through Summit Prosperity Initiative
URL:http://facilitators.costarters.co/opportunity/rebuild-summit-biz/
LOCATION:Virtual
CATEGORIES:Entrepreneurs,Local/Regional,Rebuild
ATTACH;FMTTYPE=image/png:http://facilitators.costarters.co/wp-content/uploads/2020/05/Rebuild-SummitBiz.png
END:VEVENT
BEGIN:VEVENT
DTSTART;TZID=America/New_York:20201020T130000
DTEND;TZID=America/New_York:20201020T140000
DTSTAMP:20260419T202610
CREATED:20200930T161832Z
LAST-MODIFIED:20201015T195145Z
UID:31779-1603198800-1603202400@facilitators.costarters.co
SUMMARY:Leveraging Crowdfunding to Launch and Grow Your Biz
DESCRIPTION:Whether you’ve got a side hustle\, passion project\, or an early-stage non-profit\, B2B\, B2C\, or B2B2C [deep breath]\, you need startup capital to launch and grow it. In times of economic uncertainty\, crowdfunding has proven to be a reliable and profitable funding option for entrepreneurs. \nJoin Olivia Owens\, Creator & General Manager of IFundWomen of Color\, the go-to funding resource for diverse\, early-stage entrepreneurs\, for an interactive workshop on leveraging crowdfunding for your business. You’ll walk away from this workshop with a honed pitch\, a network map\, a winning rewards strategy\, and marketing strategy for your crowdfunding campaign. \nRegister
URL:http://facilitators.costarters.co/opportunity/leveraging-crowdfunding-to-launch-and-grow-your-biz/
LOCATION:Virtual
CATEGORIES:Entrepreneurs,National,Recovery,Regroup
ATTACH;FMTTYPE=image/jpeg:http://facilitators.costarters.co/wp-content/uploads/2020/09/Leveraging-Crowdfunding-to-Launch-Grow-Your-Biz.jpeg
END:VEVENT
END:VCALENDAR