BEGIN:VCALENDAR
VERSION:2.0
PRODID:-//CO.STARTERS® - ECPv6.2.6//NONSGML v1.0//EN
CALSCALE:GREGORIAN
METHOD:PUBLISH
X-WR-CALNAME:CO.STARTERS®
X-ORIGINAL-URL:http://facilitators.costarters.co
X-WR-CALDESC:Events for CO.STARTERS®
REFRESH-INTERVAL;VALUE=DURATION:PT1H
X-Robots-Tag:noindex
X-PUBLISHED-TTL:PT1H
BEGIN:VTIMEZONE
TZID:America/Chicago
BEGIN:DAYLIGHT
TZOFFSETFROM:-0600
TZOFFSETTO:-0500
TZNAME:CDT
DTSTART:20170312T080000
END:DAYLIGHT
BEGIN:STANDARD
TZOFFSETFROM:-0500
TZOFFSETTO:-0600
TZNAME:CST
DTSTART:20171105T070000
END:STANDARD
END:VTIMEZONE
BEGIN:VEVENT
DTSTART;VALUE=DATE:20170604
DTEND;VALUE=DATE:20170608
DTSTAMP:20260425T200625
CREATED:20170225T144743Z
LAST-MODIFIED:20170926T020727Z
UID:11798-1496534400-1496879999@facilitators.costarters.co
SUMMARY:36|86
DESCRIPTION:Hosted by our partner Launch Tennessee\, 36|86 is the Southeast’s premier technology conference for entrepreneurs\, investors and thought leaders from across the country. The event showcases the top early- and growth-stage startups that are driving innovation in traditional industries and positioning the region to lead the country’s next wave of entrepreneurship. Learn more about the conference here and use the code COSTARTERS25 prior to checkout to get 25% off the ticket code! \nREGISTER HERE
URL:http://facilitators.costarters.co/opportunity/3686/
LOCATION:Schermerhorn Symphony Center\, 1 Symphony Place \, Nashville\, TN\, 37201
ATTACH;FMTTYPE=image/jpeg:http://facilitators.costarters.co/wp-content/uploads/2017/02/3686.jpg
END:VEVENT
END:VCALENDAR