BEGIN:VCALENDAR
VERSION:2.0
PRODID:-//CO.STARTERS® - ECPv6.2.6//NONSGML v1.0//EN
CALSCALE:GREGORIAN
METHOD:PUBLISH
X-ORIGINAL-URL:http://facilitators.costarters.co
X-WR-CALDESC:Events for CO.STARTERS®
REFRESH-INTERVAL;VALUE=DURATION:PT1H
X-Robots-Tag:noindex
X-PUBLISHED-TTL:PT1H
BEGIN:VTIMEZONE
TZID:America/New_York
BEGIN:DAYLIGHT
TZOFFSETFROM:-0500
TZOFFSETTO:-0400
TZNAME:EDT
DTSTART:20180311T070000
END:DAYLIGHT
BEGIN:STANDARD
TZOFFSETFROM:-0400
TZOFFSETTO:-0500
TZNAME:EST
DTSTART:20181104T060000
END:STANDARD
END:VTIMEZONE
BEGIN:VEVENT
DTSTART;VALUE=DATE:20181203
DTEND;VALUE=DATE:20181206
DTSTAMP:20260422T191027
CREATED:20181104T150757Z
LAST-MODIFIED:20181112T210843Z
UID:16825-1543795200-1544054399@facilitators.costarters.co
SUMMARY:SSTI: Navigating the New Innovation Landscape
DESCRIPTION:SSTI’s 2018 Annual Conference is December 3-5\, 2018\, in the growing innovation arena of Salt Lake City\, Utah. Along with our host partner — the Utah Science Technology and Research Initiative (USTAR) — SSTI is looking forward to showcasing the elements that have earned the region the reputation as a burgeoning technology hub. \nJoin us to focus on Navigating the New Innovation Landscape as we learn how the region’s success was achieved and USTAR’s role in helping build the state’s innovation economy. Discover the elements that are driving the growth while you reconnect and network with other leaders in the field. And learn more about the role of R&D\, capital\, workforce\, and public/private partnerships in building a successful technology-based economy from the panels of experts and thought leaders that will gather at the conference. \nGo here to learn more and register.
URL:http://facilitators.costarters.co/opportunity/ssti-navigating-the-new-innovation-landscape/
CATEGORIES:Ecosystem Builders
ATTACH;FMTTYPE=image/png:http://facilitators.costarters.co/wp-content/uploads/2018/11/web-graphic-ssti-02-1.png
END:VEVENT
BEGIN:VEVENT
DTSTART;TZID=America/New_York:20181206T130000
DTEND;TZID=America/New_York:20181206T140000
DTSTAMP:20260422T191027
CREATED:20181104T150757Z
LAST-MODIFIED:20181112T153744Z
UID:16082-1544101200-1544104800@facilitators.costarters.co
SUMMARY:ESHIP Goal #3 Shared Vision: Monthly Working Group Check-in Call
DESCRIPTION:The ESHIP Community exists to collaboratively establish the Ecosystem Building approach to economic development.  \nThis monthly working group check-in is focused on supporting initiatives related to ESHIP GOAL 3: Shared Vision (Establish shared outcomes and a common lexicon for our work.) \nTo register for this call\, use this link: \nhttps://kauffman.zoom.us/meeting/register/d7f73278ebfefb707510d14dfea9e911 \n(After registering\, click “add to calendar” to have the call info automatically added for all future calls)
URL:http://facilitators.costarters.co/opportunity/eship-goal-3/
LOCATION:zoom\, details below
CATEGORIES:Ecosystem Builders,Rural
END:VEVENT
BEGIN:VEVENT
DTSTART;TZID=America/New_York:20181220T140000
DTEND;TZID=America/New_York:20181220T150000
DTSTAMP:20260422T191027
CREATED:20181104T151211Z
LAST-MODIFIED:20181112T153228Z
UID:15328-1545314400-1545318000@facilitators.costarters.co
SUMMARY:RuralRISE Action Session Webconference
DESCRIPTION:Zoom Details:\nJoin from PC\, Mac\, Linux\, iOS or Android: https://zoom.us/j/4347467077  \nOr iPhone one-tap (US Toll): +16465588656\,\,4347467077# or +14086380968\,\,4347467077# \nOr Telephone:\n    Dial: +1 646 558 8656 (US Toll) or +1 408 638 0968 (US Toll)\n    Meeting ID: 434 746 7077
URL:http://facilitators.costarters.co/opportunity/__trashed-407/
LOCATION:zoom details below
CATEGORIES:Rural
END:VEVENT
END:VCALENDAR