BEGIN:VCALENDAR
VERSION:2.0
PRODID:-//CO.STARTERS® - ECPv6.2.6//NONSGML v1.0//EN
CALSCALE:GREGORIAN
METHOD:PUBLISH
X-ORIGINAL-URL:http://facilitators.costarters.co
X-WR-CALDESC:Events for CO.STARTERS®
REFRESH-INTERVAL;VALUE=DURATION:PT1H
X-Robots-Tag:noindex
X-PUBLISHED-TTL:PT1H
BEGIN:VTIMEZONE
TZID:America/New_York
BEGIN:DAYLIGHT
TZOFFSETFROM:-0500
TZOFFSETTO:-0400
TZNAME:EDT
DTSTART:20190310T070000
END:DAYLIGHT
BEGIN:STANDARD
TZOFFSETFROM:-0400
TZOFFSETTO:-0500
TZNAME:EST
DTSTART:20191103T060000
END:STANDARD
END:VTIMEZONE
BEGIN:VEVENT
DTSTART;VALUE=DATE:20190411
DTEND;VALUE=DATE:20190414
DTSTAMP:20260422T120414
CREATED:20190131T165719Z
LAST-MODIFIED:20190408T193825Z
UID:18579-1554940800-1555199999@facilitators.costarters.co
SUMMARY:TomTom Ecosystem Building Summit Track
DESCRIPTION:Over the past decade\, hundreds of accelerators\, incubators\, innovation districts\, angel networks\, coworking labs\, and other ecosystem support organizations have sprouted in Virginia\, all with the goal of propelling our region to the forefront of innovation and economic growth. Looking back\, what have we learned? What works and what gaps remain? Are we solving the right problems and what do we have to show for it? The Entrepreneurial Ecosystems Conference is a unique\, daylong summit for leaders from across Virginia to take stock and set the stage for even greater impact through data-driven presentations and lasting alliances.The As part of the Tom Tom Summit\, this event seeks to propel our hometowns to the forefront of innovation and economic growth. Come hang out with the CO.STARTERS team and hear Enoch present. \nLearn more about the Entrepreneurial Ecosystems Conference here. \n 
URL:http://facilitators.costarters.co/opportunity/tomtom-ecosystem-building-summit-track/
LOCATION:Charlottesville\, VA
CATEGORIES:Ecosystem Builders
ATTACH;FMTTYPE=image/jpeg:http://facilitators.costarters.co/wp-content/uploads/2019/01/download.jpeg
END:VEVENT
BEGIN:VEVENT
DTSTART;VALUE=DATE:20190413
DTEND;VALUE=DATE:20190418
DTSTAMP:20260422T120414
CREATED:20190218T163919Z
LAST-MODIFIED:20190416T150438Z
UID:18580-1555113600-1555545599@facilitators.costarters.co
SUMMARY:InBIA’s International Conference on Business Incubation (ICBI)
DESCRIPTION:For more than three decades\, InBIA’s International Conference on Business Incubation (ICBI) has been bringing together the people who champion entrepreneurship around the globe to form connections\, share ideas\, gather resources\, and reinvigorate professional perspectives. As the industry has grown and changed\, so has the association\, with an initial membership of mostly business incubator mangers in 1985\, to a current membership representing incubators\, accelerators\, co-working spaces\, super hubs\, university entrepreneurship centers\, economic development centers and more. The annual conference\, ICBI\, continues to be the connecting point for people helping entrepreneurs succeed\, and we are looking forward to our 33rd gathering next year in Minneapolis\, Minnesota!
URL:http://facilitators.costarters.co/opportunity/inbia-international-conference-on-business-incubation-2/
LOCATION:Hilton Minneapolis
CATEGORIES:Ecosystem Builders
ATTACH;FMTTYPE=image/png:http://facilitators.costarters.co/wp-content/uploads/2019/02/inbia-08.png
END:VEVENT
BEGIN:VEVENT
DTSTART;VALUE=DATE:20190415
DTEND;VALUE=DATE:20190419
DTSTAMP:20260422T120414
CREATED:20190408T195526Z
LAST-MODIFIED:20190416T150438Z
UID:19465-1555286400-1555631999@facilitators.costarters.co
SUMMARY:Global Entrepreneurship Congress
DESCRIPTION:Every year\, the Global Entrepreneurship Congress gathers together thousands of entrepreneurs\, investors\, researchers\, policymakers and other startup champions from more than 170 countries to identify new ways of helping founders start and scale new ventures around the world. At the weeklong GEC\, delegates make connections\, gain insights\, learn about new research\, and leave ready to renew their programs\, policy ideas or firm founder skills. \nGEC 2019 will take place in Manama\, Bahrain a thriving startup hub with more than 4\,000 years of history as a commercial crossroads. GEC 2019 will be held in April 15-18\, 2019.
URL:http://facilitators.costarters.co/opportunity/global-entrepreneurship-congress/
LOCATION:Bahrain
CATEGORIES:Ecosystem Builders
ATTACH;FMTTYPE=image/png:http://facilitators.costarters.co/wp-content/uploads/2019/04/GEC_BAHRAIN_2019-01.png
END:VEVENT
BEGIN:VEVENT
DTSTART;VALUE=DATE:20190424
DTEND;VALUE=DATE:20190427
DTSTAMP:20260422T120414
CREATED:20190321T134007Z
LAST-MODIFIED:20190423T185032Z
UID:19151-1556064000-1556323199@facilitators.costarters.co
SUMMARY:Angel Capital Association Summit
DESCRIPTION:Join ACA for an incredible journey of angel investing (at home and across the globe) and take home deep insights\, actionable recommendations and a newly expanded network. Register Here!
URL:http://facilitators.costarters.co/opportunity/angel-capital-association-summit/
LOCATION:Chicago\, IL\, USA\, United States
CATEGORIES:Ecosystem Builders
ATTACH;FMTTYPE=image/png:http://facilitators.costarters.co/wp-content/uploads/2019/03/aca-summit-08.png
END:VEVENT
END:VCALENDAR