BEGIN:VCALENDAR
VERSION:2.0
PRODID:-//CO.STARTERS® - ECPv6.2.6//NONSGML v1.0//EN
CALSCALE:GREGORIAN
METHOD:PUBLISH
X-WR-CALNAME:CO.STARTERS®
X-ORIGINAL-URL:http://facilitators.costarters.co
X-WR-CALDESC:Events for CO.STARTERS®
REFRESH-INTERVAL;VALUE=DURATION:PT1H
X-Robots-Tag:noindex
X-PUBLISHED-TTL:PT1H
BEGIN:VTIMEZONE
TZID:America/New_York
BEGIN:DAYLIGHT
TZOFFSETFROM:-0500
TZOFFSETTO:-0400
TZNAME:EDT
DTSTART:20190310T070000
END:DAYLIGHT
BEGIN:STANDARD
TZOFFSETFROM:-0400
TZOFFSETTO:-0500
TZNAME:EST
DTSTART:20191103T060000
END:STANDARD
END:VTIMEZONE
BEGIN:VEVENT
DTSTART;VALUE=DATE:20190604
DTEND;VALUE=DATE:20190608
DTSTAMP:20260422T071301
CREATED:20190603T140109Z
LAST-MODIFIED:20190603T140109Z
UID:19945-1559606400-1559951999@facilitators.costarters.co
SUMMARY:Rural LISC Annual Seminar
DESCRIPTION:The 2019 Rural LISC Annual Seminar will be held June 4-7\, 2019\, at Resorts World Catskills in Monticello\, New York\, co-hosted by Rural LISC Partner RUPCO\, Inc. Rural community development practitioners from across the nation will convene to share best practices\, learn about new developments in the field\, network and collectively dialogue on critical issues facing small communities in rural America. The seminar agenda\, information and presentation materials will be posted and updated below as they are received.
URL:http://facilitators.costarters.co/opportunity/rural-lisc-annual-seminar/
LOCATION:Resorts World Catskills\, 888 Resorts World Drive\, Monticello\, NY 12701\, USA\, 2 W Catskill Trl\, United States
CATEGORIES:Rural
ATTACH;FMTTYPE=image/png:http://facilitators.costarters.co/wp-content/uploads/2019/06/rural-LISC-01.png
END:VEVENT
BEGIN:VEVENT
DTSTART;VALUE=DATE:20190609
DTEND;VALUE=DATE:20190612
DTSTAMP:20260422T071301
CREATED:20190521T163348Z
LAST-MODIFIED:20190610T135318Z
UID:19812-1560038400-1560297599@facilitators.costarters.co
SUMMARY:2019 CCA (Community Colleges for Appalachia) Annual Conference
DESCRIPTION:http://www.ccofapp.org/events.html
URL:http://facilitators.costarters.co/opportunity/2019-cca-community-colleges-for-appalachia-annual-conference/
LOCATION:DoubleTree Inn\, Asheville\, NC\, 2 Iona Cir\, United States
CATEGORIES:Rural
ATTACH;FMTTYPE=image/png:http://facilitators.costarters.co/wp-content/uploads/2019/05/cca-01.png
END:VEVENT
BEGIN:VEVENT
DTSTART;VALUE=DATE:20190612
DTEND;VALUE=DATE:20190615
DTSTAMP:20260422T071301
CREATED:20190521T163701Z
LAST-MODIFIED:20190610T135052Z
UID:19802-1560297600-1560556799@facilitators.costarters.co
SUMMARY:Forward Cities Annual Conference
DESCRIPTION:2019 National Conference: Advancing Inclusive Entrepreneurship\nThe Forward Cities annual conference attracts 200+ leaders from over forty cities from around the nation. It is an unparalleled\, high-energy opportunity to make new connections and foster existing friendships within a robust learning environment. Every session is designed to provoke and provide practical ideas to advance inclusive innovation in your community. Field trips integrated into the experience allows opportunities to see cutting edge ideas in action and to explore the host city.
URL:http://facilitators.costarters.co/opportunity/forward-cities-annual-conference/
LOCATION:Pittsburgh\, PA\, USA\, United States
CATEGORIES:Ecosystem Builders
ATTACH;FMTTYPE=image/png:http://facilitators.costarters.co/wp-content/uploads/2019/05/forward-cities-01.png
END:VEVENT
BEGIN:VEVENT
DTSTART;VALUE=DATE:20190614
DTEND;VALUE=DATE:20190617
DTSTAMP:20260422T071301
CREATED:20190529T174711Z
LAST-MODIFIED:20190610T135052Z
UID:19976-1560470400-1560729599@facilitators.costarters.co
SUMMARY:NOMCON
DESCRIPTION:A national gathering of leaders representing the breadth of the maker movement\, the Nation of Makers Conference (“NOMCON”) aims to spark\nand increase connections across sectors\, generate robust collaborations\, and promote the growth of an inclusive Nation of Makers. A central goal of the event is the promotion of relationship-building across lines of regular conversation\, generating an increased sense of connected community throughout the entire ecosystem of maker-supporting entities. Join us for pre-conference tours\, dynamic keynote speakers\, engaging programs and a special post conference opportunity for educators.
URL:http://facilitators.costarters.co/opportunity/nomcon/
LOCATION:The Chattanooga Convention Center 1150 Carter St\, Chattanooga\, TN 374021
CATEGORIES:Ecosystem Builders
ATTACH;FMTTYPE=image/png:http://facilitators.costarters.co/wp-content/uploads/2019/05/NOMCONLogo2019Grey_ff1b5d87-5753-4d7e-a80c-8d52ee714654-01.png
END:VEVENT
END:VCALENDAR